BEGIN:VCALENDAR
VERSION:2.0
PRODID:-//Fiji Arts Council - ECPv6.15.20//NONSGML v1.0//EN
CALSCALE:GREGORIAN
METHOD:PUBLISH
X-ORIGINAL-URL:https://www.fijiartscouncil.com.fj
X-WR-CALDESC:Events for Fiji Arts Council
REFRESH-INTERVAL;VALUE=DURATION:PT1H
X-Robots-Tag:noindex
X-PUBLISHED-TTL:PT1H
BEGIN:VTIMEZONE
TZID:Pacific/Auckland
BEGIN:STANDARD
TZOFFSETFROM:+1300
TZOFFSETTO:+1200
TZNAME:NZST
DTSTART:20250405T140000
END:STANDARD
BEGIN:DAYLIGHT
TZOFFSETFROM:+1200
TZOFFSETTO:+1300
TZNAME:NZDT
DTSTART:20250927T140000
END:DAYLIGHT
BEGIN:STANDARD
TZOFFSETFROM:+1300
TZOFFSETTO:+1200
TZNAME:NZST
DTSTART:20260404T140000
END:STANDARD
BEGIN:DAYLIGHT
TZOFFSETFROM:+1200
TZOFFSETTO:+1300
TZNAME:NZDT
DTSTART:20260926T140000
END:DAYLIGHT
BEGIN:STANDARD
TZOFFSETFROM:+1300
TZOFFSETTO:+1200
TZNAME:NZST
DTSTART:20270403T140000
END:STANDARD
BEGIN:DAYLIGHT
TZOFFSETFROM:+1200
TZOFFSETTO:+1300
TZNAME:NZDT
DTSTART:20270925T140000
END:DAYLIGHT
END:VTIMEZONE
BEGIN:VEVENT
DTSTART;TZID=Pacific/Auckland:20260226T060000
DTEND;TZID=Pacific/Auckland:20260226T203000
DTSTAMP:20260426T020251
CREATED:20260209T212612Z
LAST-MODIFIED:20260209T225418Z
UID:10738-1772085600-1772137800@www.fijiartscouncil.com.fj
SUMMARY:Mother Tongue(s) - Poetry & Storytelling
DESCRIPTION:
URL:https://www.fijiartscouncil.com.fj/event/mother-tongues-a-poetry-storytelling/
LOCATION:Ginger Cafe\, Fiji Museum\, Suva\, Fiji
CATEGORIES:Events
ATTACH;FMTTYPE=image/png:https://www.fijiartscouncil.com.fj/wp-content/uploads/2026/02/TPS-MotherTongues-Poster-1.png
END:VEVENT
END:VCALENDAR