BEGIN:VCALENDAR
VERSION:2.0
PRODID:-//Fiji Arts Council - ECPv6.15.20//NONSGML v1.0//EN
CALSCALE:GREGORIAN
METHOD:PUBLISH
X-WR-CALNAME:Fiji Arts Council
X-ORIGINAL-URL:https://www.fijiartscouncil.com.fj
X-WR-CALDESC:Events for Fiji Arts Council
REFRESH-INTERVAL;VALUE=DURATION:PT1H
X-Robots-Tag:noindex
X-PUBLISHED-TTL:PT1H
BEGIN:VTIMEZONE
TZID:Pacific/Auckland
BEGIN:STANDARD
TZOFFSETFROM:+1300
TZOFFSETTO:+1200
TZNAME:NZST
DTSTART:20240406T140000
END:STANDARD
BEGIN:DAYLIGHT
TZOFFSETFROM:+1200
TZOFFSETTO:+1300
TZNAME:NZDT
DTSTART:20240928T140000
END:DAYLIGHT
BEGIN:STANDARD
TZOFFSETFROM:+1300
TZOFFSETTO:+1200
TZNAME:NZST
DTSTART:20250405T140000
END:STANDARD
BEGIN:DAYLIGHT
TZOFFSETFROM:+1200
TZOFFSETTO:+1300
TZNAME:NZDT
DTSTART:20250927T140000
END:DAYLIGHT
BEGIN:STANDARD
TZOFFSETFROM:+1300
TZOFFSETTO:+1200
TZNAME:NZST
DTSTART:20260404T140000
END:STANDARD
BEGIN:DAYLIGHT
TZOFFSETFROM:+1200
TZOFFSETTO:+1300
TZNAME:NZDT
DTSTART:20260926T140000
END:DAYLIGHT
BEGIN:STANDARD
TZOFFSETFROM:+1300
TZOFFSETTO:+1200
TZNAME:NZST
DTSTART:20270403T140000
END:STANDARD
BEGIN:DAYLIGHT
TZOFFSETFROM:+1200
TZOFFSETTO:+1300
TZNAME:NZDT
DTSTART:20270925T140000
END:DAYLIGHT
END:VTIMEZONE
BEGIN:VEVENT
DTSTART;VALUE=DATE:20250305
DTEND;VALUE=DATE:20250308
DTSTAMP:20260426T120602
CREATED:20250210T215954Z
LAST-MODIFIED:20250210T215954Z
UID:9819-1741132800-1741391999@www.fijiartscouncil.com.fj
SUMMARY:Women's Expo 2025
DESCRIPTION:
URL:https://www.fijiartscouncil.com.fj/event/womens-expo-2025/
LOCATION:Vodafone Arena\, Suva
CATEGORIES:Events
ATTACH;FMTTYPE=image/jpeg:https://www.fijiartscouncil.com.fj/wp-content/uploads/2025/02/473666921_937681745215538_8051124954321971175_n.jpg
END:VEVENT
BEGIN:VEVENT
DTSTART;TZID=Pacific/Auckland:20250329T090000
DTEND;TZID=Pacific/Auckland:20250405T170000
DTSTAMP:20260426T120602
CREATED:20250309T212624Z
LAST-MODIFIED:20250309T212624Z
UID:9833-1743238800-1743872400@www.fijiartscouncil.com.fj
SUMMARY:Fiji Fringe Festival 2025
DESCRIPTION:
URL:https://www.fijiartscouncil.com.fj/event/fiji-fringe-festival-2025/
LOCATION:SUVA\, Fiji
CATEGORIES:Events
ATTACH;FMTTYPE=image/jpeg:https://www.fijiartscouncil.com.fj/wp-content/uploads/2025/03/480407624_671510738726104_672820260158454637_n.jpg
END:VEVENT
BEGIN:VEVENT
DTSTART;VALUE=DATE:20250515
DTEND;VALUE=DATE:20250517
DTSTAMP:20260426T120602
CREATED:20250429T213159Z
LAST-MODIFIED:20250506T231357Z
UID:9871-1747267200-1747439999@www.fijiartscouncil.com.fj
SUMMARY:Northern Divisional Women's Expo 2025
DESCRIPTION:
URL:https://www.fijiartscouncil.com.fj/event/northern-divisional-womens-expo-2025/
LOCATION:Subrails Park\, Labasa\, Fiji
CATEGORIES:Events
ATTACH;FMTTYPE=image/jpeg:https://www.fijiartscouncil.com.fj/wp-content/uploads/2025/04/495697452_1023304233319955_191119060091997179_n.jpg
END:VEVENT
BEGIN:VEVENT
DTSTART;TZID=Pacific/Auckland:20250527T090000
DTEND;TZID=Pacific/Auckland:20250529T170000
DTSTAMP:20260426T120602
CREATED:20250520T235629Z
LAST-MODIFIED:20250521T223235Z
UID:9882-1748336400-1748538000@www.fijiartscouncil.com.fj
SUMMARY:Business Entrepreneurship for Music Composers & Creators
DESCRIPTION:
URL:https://www.fijiartscouncil.com.fj/event/business-entrepreneurship-for-music-composers-creators/
LOCATION:iTaukei Trust Fund Board – Talanoa Lounge\, Fiji
CATEGORIES:Events
ATTACH;FMTTYPE=image/jpeg:https://www.fijiartscouncil.com.fj/wp-content/uploads/2025/05/Flyer-scaled.jpg
END:VEVENT
BEGIN:VEVENT
DTSTART;VALUE=DATE:20250612
DTEND;VALUE=DATE:20250614
DTSTAMP:20260426T120602
CREATED:20250429T213334Z
LAST-MODIFIED:20250520T235726Z
UID:9875-1749686400-1749859199@www.fijiartscouncil.com.fj
SUMMARY:Central Divisional Women's Expo 2025
DESCRIPTION:
URL:https://www.fijiartscouncil.com.fj/event/central-divisional-womens-expo-2025/
CATEGORIES:Events
ATTACH;FMTTYPE=image/jpeg:https://www.fijiartscouncil.com.fj/wp-content/uploads/2025/04/498666152_1031266375857074_2254511687014703392_n.jpg
END:VEVENT
BEGIN:VEVENT
DTSTART;TZID=Pacific/Auckland:20250724T080000
DTEND;TZID=Pacific/Auckland:20250725T170000
DTSTAMP:20260426T120602
CREATED:20250702T023317Z
LAST-MODIFIED:20250728T003722Z
UID:10247-1753344000-1753462800@www.fijiartscouncil.com.fj
SUMMARY:Vula I Cukicuki Weekly Art Market 2025
DESCRIPTION:
URL:https://www.fijiartscouncil.com.fj/event/weekly-art-market-2025/
LOCATION:Fiji Arts Council Office\, St. Stephen's Building\, Lot 310\, Victoria Parade\, (beside FDB Bank)\, Suva\, Fiji
CATEGORIES:Events
ATTACH;FMTTYPE=image/jpeg:https://www.fijiartscouncil.com.fj/wp-content/uploads/2025/07/July-4-scaled.jpg
END:VEVENT
BEGIN:VEVENT
DTSTART;VALUE=DATE:20250828
DTEND;VALUE=DATE:20250830
DTSTAMP:20260426T120602
CREATED:20250801T031715Z
LAST-MODIFIED:20250824T213916Z
UID:10269-1756339200-1756511999@www.fijiartscouncil.com.fj
SUMMARY:Vula I Senidrala Weekly Art Market 2025
DESCRIPTION:
URL:https://www.fijiartscouncil.com.fj/event/vula-i-senidrala-weekly-art-market-2025/
LOCATION:Fiji Arts Council Office\, St. Stephen's Building\, Lot 310\, Victoria Parade\, (beside FDB Bank)\, Suva\, Fiji
CATEGORIES:Events
ATTACH;FMTTYPE=image/jpeg:https://www.fijiartscouncil.com.fj/wp-content/uploads/2025/08/Aug-flyer-4-scaled.jpg
END:VEVENT
BEGIN:VEVENT
DTSTART;VALUE=DATE:20250903
DTEND;VALUE=DATE:20250927
DTSTAMP:20260426T120602
CREATED:20250909T044718Z
LAST-MODIFIED:20250926T040708Z
UID:10335-1756857600-1758931199@www.fijiartscouncil.com.fj
SUMMARY:Tagi ni Vanua Exhibition 2025
DESCRIPTION:
URL:https://www.fijiartscouncil.com.fj/event/tagi-ni-vanua/
LOCATION:Fiji Arts Council
CATEGORIES:Events
ATTACH;FMTTYPE=image/jpeg:https://www.fijiartscouncil.com.fj/wp-content/uploads/2025/09/tagi-ni-vanua-poster-1-scaled.jpg
END:VEVENT
BEGIN:VEVENT
DTSTART;VALUE=DATE:20250918
DTEND;VALUE=DATE:20250920
DTSTAMP:20260426T120602
CREATED:20250829T040315Z
LAST-MODIFIED:20250914T214218Z
UID:10312-1758153600-1758326399@www.fijiartscouncil.com.fj
SUMMARY:Vula-i-Vavakada Weekly Art Market 2025
DESCRIPTION:
URL:https://www.fijiartscouncil.com.fj/event/vula-i-vavakada-weekly-art-market-2025/
LOCATION:Fiji Arts Council Office\, St. Stephen's Building\, Lot 310\, Victoria Parade\, (beside FDB Bank)\, Suva\, Fiji
CATEGORIES:Events
ATTACH;FMTTYPE=image/jpeg:https://www.fijiartscouncil.com.fj/wp-content/uploads/2025/09/Sep-flyer-3-scaled.jpg
END:VEVENT
BEGIN:VEVENT
DTSTART;VALUE=DATE:20250920
DTEND;VALUE=DATE:20250928
DTSTAMP:20260426T120602
CREATED:20250720T231429Z
LAST-MODIFIED:20250919T040926Z
UID:10259-1758326400-1759017599@www.fijiartscouncil.com.fj
SUMMARY:Art Exhibition 2025
DESCRIPTION:
URL:https://www.fijiartscouncil.com.fj/event/art-exhibition-2025/
LOCATION:Foreshore Car Park\, Suva\, Fiji
CATEGORIES:Events
ATTACH;FMTTYPE=image/jpeg:https://www.fijiartscouncil.com.fj/wp-content/uploads/2025/09/poster-sep-2025-scaled.jpg
END:VEVENT
BEGIN:VEVENT
DTSTART;TZID=Pacific/Auckland:20250920T160000
DTEND;TZID=Pacific/Auckland:20250927T180000
DTSTAMP:20260426T120602
CREATED:20250919T041444Z
LAST-MODIFIED:20250922T000624Z
UID:10350-1758384000-1758996000@www.fijiartscouncil.com.fj
SUMMARY:Hibiscus Cultural Workshop 2025
DESCRIPTION:
URL:https://www.fijiartscouncil.com.fj/event/hibiscus-cultural-workshop-2025/
LOCATION:Civic Center Conference Room (Lower Auditorium)\, Suva\, Fiji
CATEGORIES:Events
ATTACH;FMTTYPE=image/jpeg:https://www.fijiartscouncil.com.fj/wp-content/uploads/2025/09/worshop-flyer-1-scaled.jpg
END:VEVENT
BEGIN:VEVENT
DTSTART;VALUE=DATE:20251007
DTEND;VALUE=DATE:20251012
DTSTAMP:20260426T120602
CREATED:20250926T033919Z
LAST-MODIFIED:20251005T235238Z
UID:10358-1759795200-1760227199@www.fijiartscouncil.com.fj
SUMMARY:National Craft Exhibition 2025
DESCRIPTION:
URL:https://www.fijiartscouncil.com.fj/event/national-craft-exhibition-2025-2/
LOCATION:Fiji Arts Council Office\, beside FDB Bank\, Suva\, Fiji
CATEGORIES:Events
ATTACH;FMTTYPE=image/jpeg:https://www.fijiartscouncil.com.fj/wp-content/uploads/2025/10/Poster-1.jpg
END:VEVENT
BEGIN:VEVENT
DTSTART;TZID=Pacific/Auckland:20251023T150000
DTEND;TZID=Pacific/Auckland:20251030T210000
DTSTAMP:20260426T120602
CREATED:20251021T225830Z
LAST-MODIFIED:20251022T212723Z
UID:10518-1761231600-1761858000@www.fijiartscouncil.com.fj
SUMMARY:Fijian Art Festival 2025
DESCRIPTION:
URL:https://www.fijiartscouncil.com.fj/event/fijian-art-festival-2025/
LOCATION:Alliance Française de Suva\, 20 Desvouex Road\, Suva\, Fiji
CATEGORIES:Events
ATTACH;FMTTYPE=image/jpeg:https://www.fijiartscouncil.com.fj/wp-content/uploads/2025/10/558206718_1360595269408039_8976379893665829603_n.jpg
END:VEVENT
BEGIN:VEVENT
DTSTART;VALUE=DATE:20251106
DTEND;VALUE=DATE:20251126
DTSTAMP:20260426T120602
CREATED:20251104T224127Z
LAST-MODIFIED:20251105T215613Z
UID:10523-1762387200-1764115199@www.fijiartscouncil.com.fj
SUMMARY:Lagi 2025
DESCRIPTION:
URL:https://www.fijiartscouncil.com.fj/event/lagi-2025/
CATEGORIES:Events
ATTACH;FMTTYPE=image/jpeg:https://www.fijiartscouncil.com.fj/wp-content/uploads/2025/11/lagi-scaled.jpg
END:VEVENT
BEGIN:VEVENT
DTSTART;VALUE=DATE:20251211
DTEND;VALUE=DATE:20251222
DTSTAMP:20260426T120602
CREATED:20251209T222339Z
LAST-MODIFIED:20251216T022409Z
UID:10596-1765411200-1766361599@www.fijiartscouncil.com.fj
SUMMARY:Christmas Art Exhibition 2025
DESCRIPTION:
URL:https://www.fijiartscouncil.com.fj/event/christmas-art-exhibition-205/
LOCATION:Fiji Arts Council Office (St. Stephen’s Building\, Lot 310\, Victoria Parade\, Suva\, Fiji)
CATEGORIES:Events
ATTACH;FMTTYPE=image/jpeg:https://www.fijiartscouncil.com.fj/wp-content/uploads/2025/12/flyer-fb-4.jpg
END:VEVENT
BEGIN:VEVENT
DTSTART;TZID=Pacific/Auckland:20260203T090000
DTEND;TZID=Pacific/Auckland:20260213T160000
DTSTAMP:20260426T120602
CREATED:20260205T000718Z
LAST-MODIFIED:20260205T001343Z
UID:10734-1770109200-1770998400@www.fijiartscouncil.com.fj
SUMMARY:Bamboo Products Exhibition 2026
DESCRIPTION:
URL:https://www.fijiartscouncil.com.fj/event/bamboo-products-exhibition-2026/
LOCATION:Fiji Arts Council Office\, St. Stephen's Building\, Lot 310\, Victoria Parade\, (beside FDB Bank)\, Suva\, Fiji
CATEGORIES:Events
ATTACH;FMTTYPE=image/jpeg:https://www.fijiartscouncil.com.fj/wp-content/uploads/2026/02/Bamboo-Products-Exhibition-2026.jpeg
END:VEVENT
BEGIN:VEVENT
DTSTART;TZID=Pacific/Auckland:20260226T060000
DTEND;TZID=Pacific/Auckland:20260226T203000
DTSTAMP:20260426T120602
CREATED:20260209T212612Z
LAST-MODIFIED:20260209T225418Z
UID:10738-1772085600-1772137800@www.fijiartscouncil.com.fj
SUMMARY:Mother Tongue(s) - Poetry & Storytelling
DESCRIPTION:
URL:https://www.fijiartscouncil.com.fj/event/mother-tongues-a-poetry-storytelling/
LOCATION:Ginger Cafe\, Fiji Museum\, Suva\, Fiji
CATEGORIES:Events
ATTACH;FMTTYPE=image/png:https://www.fijiartscouncil.com.fj/wp-content/uploads/2026/02/TPS-MotherTongues-Poster-1.png
END:VEVENT
BEGIN:VEVENT
DTSTART;TZID=Pacific/Auckland:20260504T100000
DTEND;TZID=Pacific/Auckland:20260516T130000
DTSTAMP:20260426T120602
CREATED:20260324T030245Z
LAST-MODIFIED:20260324T030245Z
UID:10841-1777888800-1778936400@www.fijiartscouncil.com.fj
SUMMARY:Holiday Art Classes
DESCRIPTION:
URL:https://www.fijiartscouncil.com.fj/event/holiday-art-classes/
LOCATION:Suva City Carnegie Library\, Fiji
CATEGORIES:Events
ATTACH;FMTTYPE=image/jpeg:https://www.fijiartscouncil.com.fj/wp-content/uploads/2026/03/653851646_122129092419159167_4903781761980813951_n.jpg
END:VEVENT
END:VCALENDAR