BEGIN:VCALENDAR
VERSION:2.0
PRODID:-//Fiji Arts Council - ECPv6.15.20//NONSGML v1.0//EN
CALSCALE:GREGORIAN
METHOD:PUBLISH
X-ORIGINAL-URL:https://www.fijiartscouncil.com.fj
X-WR-CALDESC:Events for Fiji Arts Council
REFRESH-INTERVAL;VALUE=DURATION:PT1H
X-Robots-Tag:noindex
X-PUBLISHED-TTL:PT1H
BEGIN:VTIMEZONE
TZID:Pacific/Auckland
BEGIN:STANDARD
TZOFFSETFROM:+1300
TZOFFSETTO:+1200
TZNAME:NZST
DTSTART:20190406T140000
END:STANDARD
BEGIN:DAYLIGHT
TZOFFSETFROM:+1200
TZOFFSETTO:+1300
TZNAME:NZDT
DTSTART:20190928T140000
END:DAYLIGHT
BEGIN:STANDARD
TZOFFSETFROM:+1300
TZOFFSETTO:+1200
TZNAME:NZST
DTSTART:20200404T140000
END:STANDARD
BEGIN:DAYLIGHT
TZOFFSETFROM:+1200
TZOFFSETTO:+1300
TZNAME:NZDT
DTSTART:20200926T140000
END:DAYLIGHT
BEGIN:STANDARD
TZOFFSETFROM:+1300
TZOFFSETTO:+1200
TZNAME:NZST
DTSTART:20210403T140000
END:STANDARD
BEGIN:DAYLIGHT
TZOFFSETFROM:+1200
TZOFFSETTO:+1300
TZNAME:NZDT
DTSTART:20210925T140000
END:DAYLIGHT
BEGIN:STANDARD
TZOFFSETFROM:+1300
TZOFFSETTO:+1200
TZNAME:NZST
DTSTART:20220402T140000
END:STANDARD
BEGIN:DAYLIGHT
TZOFFSETFROM:+1200
TZOFFSETTO:+1300
TZNAME:NZDT
DTSTART:20220924T140000
END:DAYLIGHT
BEGIN:STANDARD
TZOFFSETFROM:+1300
TZOFFSETTO:+1200
TZNAME:NZST
DTSTART:20230401T140000
END:STANDARD
BEGIN:DAYLIGHT
TZOFFSETFROM:+1200
TZOFFSETTO:+1300
TZNAME:NZDT
DTSTART:20230923T140000
END:DAYLIGHT
BEGIN:STANDARD
TZOFFSETFROM:+1300
TZOFFSETTO:+1200
TZNAME:NZST
DTSTART:20240406T140000
END:STANDARD
BEGIN:DAYLIGHT
TZOFFSETFROM:+1200
TZOFFSETTO:+1300
TZNAME:NZDT
DTSTART:20240928T140000
END:DAYLIGHT
BEGIN:STANDARD
TZOFFSETFROM:+1300
TZOFFSETTO:+1200
TZNAME:NZST
DTSTART:20250405T140000
END:STANDARD
BEGIN:DAYLIGHT
TZOFFSETFROM:+1200
TZOFFSETTO:+1300
TZNAME:NZDT
DTSTART:20250927T140000
END:DAYLIGHT
END:VTIMEZONE
BEGIN:VEVENT
DTSTART;TZID=Pacific/Auckland:20200829T070000
DTEND;TZID=Pacific/Auckland:20200829T160000
DTSTAMP:20260425T233105
CREATED:20200825T212038Z
LAST-MODIFIED:20201118T021203Z
UID:4687-1598684400-1598716800@www.fijiartscouncil.com.fj
SUMMARY:“Solesolevaki” Market Day 2
DESCRIPTION:
URL:https://www.fijiartscouncil.com.fj/event/solesolevaki-working-together-market-day-2/
CATEGORIES:Events
ATTACH;FMTTYPE=image/jpeg:https://www.fijiartscouncil.com.fj/wp-content/uploads/2020/08/Market-Day-2.jpg
END:VEVENT
BEGIN:VEVENT
DTSTART;TZID=Pacific/Auckland:20201003T070000
DTEND;TZID=Pacific/Auckland:20201003T160000
DTSTAMP:20260425T233105
CREATED:20200920T202145Z
LAST-MODIFIED:20201117T204057Z
UID:5204-1601708400-1601740800@www.fijiartscouncil.com.fj
SUMMARY:“Solesolevaki” Market Day 3
DESCRIPTION:
URL:https://www.fijiartscouncil.com.fj/event/solesolevaki-working-together-market-day-3/
LOCATION:RATU SUKUNA PARK\, SUVA\, RATU SUKUNA PARK\, SUVA\, Suva\, Fiji
CATEGORIES:Events
ATTACH;FMTTYPE=image/jpeg:https://www.fijiartscouncil.com.fj/wp-content/uploads/2020/09/market-day-3.jpg
ORGANIZER;CN="Fiji Arts Council":MAILTO:fijiartscouncil2019@gmail.com
END:VEVENT
BEGIN:VEVENT
DTSTART;TZID=Pacific/Auckland:20201031T070000
DTEND;TZID=Pacific/Auckland:20201031T160000
DTSTAMP:20260425T233105
CREATED:20201023T010146Z
LAST-MODIFIED:20201118T021149Z
UID:5379-1604127600-1604160000@www.fijiartscouncil.com.fj
SUMMARY:“Solesolevaki” Market Day 4
DESCRIPTION:
URL:https://www.fijiartscouncil.com.fj/event/solesolevaki-working-together-market-day-4/
CATEGORIES:Events
ATTACH;FMTTYPE=image/jpeg:https://www.fijiartscouncil.com.fj/wp-content/uploads/2020/10/Market-day-4.jpg
END:VEVENT
BEGIN:VEVENT
DTSTART;TZID=Pacific/Auckland:20201128T070000
DTEND;TZID=Pacific/Auckland:20201128T160000
DTSTAMP:20260425T233105
CREATED:20201117T204019Z
LAST-MODIFIED:20201118T020950Z
UID:5638-1606546800-1606579200@www.fijiartscouncil.com.fj
SUMMARY:“Solesolevaki”  Market Day 5
DESCRIPTION:
URL:https://www.fijiartscouncil.com.fj/event/solesolevaki-market-day-5/
CATEGORIES:Events
ATTACH;FMTTYPE=image/jpeg:https://www.fijiartscouncil.com.fj/wp-content/uploads/2020/11/Market-day-5.jpg
END:VEVENT
BEGIN:VEVENT
DTSTART;TZID=Pacific/Auckland:20201216T100000
DTEND;TZID=Pacific/Auckland:20201218T190000
DTSTAMP:20260425T233105
CREATED:20201118T021132Z
LAST-MODIFIED:20201127T002140Z
UID:5658-1608112800-1608318000@www.fijiartscouncil.com.fj
SUMMARY:National Fine Arts Exhibition 2020
DESCRIPTION:
URL:https://www.fijiartscouncil.com.fj/event/national-fine-arts-council-2020/
CATEGORIES:Events
ATTACH;FMTTYPE=image/jpeg:https://www.fijiartscouncil.com.fj/wp-content/uploads/2020/11/1-4.jpg
END:VEVENT
BEGIN:VEVENT
DTSTART;TZID=Pacific/Auckland:20210701T080000
DTEND;TZID=Pacific/Auckland:20211130T170000
DTSTAMP:20260425T233105
CREATED:20210902T215421Z
LAST-MODIFIED:20210902T221524Z
UID:7273-1625126400-1638291600@www.fijiartscouncil.com.fj
SUMMARY:ZOOM SESSIONS & WOKSHOPS 2021 (Inclusive Economic Recovery  Through Sustainable Enterprises in  the Informal Economies of Fiji)
DESCRIPTION:
URL:https://www.fijiartscouncil.com.fj/event/inclusive-economic-recovery-through-sustainable-enterprises-in-the-informal-economies-of-fiji/
ATTACH;FMTTYPE=image/jpeg:https://www.fijiartscouncil.com.fj/wp-content/uploads/2021/09/ZOOM-CLASS-scaled.jpg
END:VEVENT
BEGIN:VEVENT
DTSTART;VALUE=DATE:20211211
DTEND;VALUE=DATE:20211212
DTSTAMP:20260425T233105
CREATED:20211129T204135Z
LAST-MODIFIED:20211129T204135Z
UID:7606-1639180800-1639267199@www.fijiartscouncil.com.fj
SUMMARY:Fiji Arts Council Market Day
DESCRIPTION:
URL:https://www.fijiartscouncil.com.fj/event/fiji-arts-council-market-day/
LOCATION:FNPF\, Suva\, Fiji
CATEGORIES:Events
ATTACH;FMTTYPE=image/jpeg:https://www.fijiartscouncil.com.fj/wp-content/uploads/2021/11/poster-market-scaled.jpg
END:VEVENT
BEGIN:VEVENT
DTSTART;TZID=Pacific/Auckland:20211216T170000
DTEND;TZID=Pacific/Auckland:20211217T190000
DTSTAMP:20260425T233105
CREATED:20211213T203300Z
LAST-MODIFIED:20211213T203300Z
UID:7836-1639674000-1639767600@www.fijiartscouncil.com.fj
SUMMARY:Resili Art Debate
DESCRIPTION:
URL:https://www.fijiartscouncil.com.fj/event/resili-art-debate/
CATEGORIES:Events
ATTACH;FMTTYPE=image/jpeg:https://www.fijiartscouncil.com.fj/wp-content/uploads/2021/12/debate.jpg
END:VEVENT
BEGIN:VEVENT
DTSTART;TZID=Pacific/Auckland:20220118T090000
DTEND;TZID=Pacific/Auckland:20220129T150000
DTSTAMP:20260425T233105
CREATED:20220114T042005Z
LAST-MODIFIED:20220120T025008Z
UID:7847-1642496400-1643468400@www.fijiartscouncil.com.fj
SUMMARY:Visual Art Beginners Workshop 2022
DESCRIPTION:
URL:https://www.fijiartscouncil.com.fj/event/visual-art-beginners-workshop/
LOCATION:SUVA\, Fiji
CATEGORIES:Events
ATTACH;FMTTYPE=image/jpeg:https://www.fijiartscouncil.com.fj/wp-content/uploads/2022/01/Poster-1-scaled.jpg
ORGANIZER;CN="Fiji Arts Council":MAILTO:fijiartscouncil2019@gmail.com
END:VEVENT
BEGIN:VEVENT
DTSTART;VALUE=DATE:20220321
DTEND;VALUE=DATE:20220327
DTSTAMP:20260425T233105
CREATED:20220316T221021Z
LAST-MODIFIED:20220316T221441Z
UID:8044-1647820800-1648339199@www.fijiartscouncil.com.fj
SUMMARY:Market Day 2022
DESCRIPTION:
URL:https://www.fijiartscouncil.com.fj/event/market-day/
CATEGORIES:Events
ATTACH;FMTTYPE=image/jpeg:https://www.fijiartscouncil.com.fj/wp-content/uploads/2022/03/Poster2-scaled.jpg
ORGANIZER;CN="Fiji Arts Council":MAILTO:fijiartscouncil2019@gmail.com
END:VEVENT
BEGIN:VEVENT
DTSTART;TZID=Pacific/Auckland:20220609T090000
DTEND;TZID=Pacific/Auckland:20220611T170000
DTSTAMP:20260425T233105
CREATED:20220607T020421Z
LAST-MODIFIED:20220607T020421Z
UID:8195-1654765200-1654966800@www.fijiartscouncil.com.fj
SUMMARY:Jewellery Making Workshop 2022
DESCRIPTION:
URL:https://www.fijiartscouncil.com.fj/event/jewellery-making-workshop-2022/
ATTACH;FMTTYPE=image/jpeg:https://www.fijiartscouncil.com.fj/wp-content/uploads/2022/06/Poster.jpg
END:VEVENT
BEGIN:VEVENT
DTSTART;TZID=Pacific/Auckland:20220815T090000
DTEND;TZID=Pacific/Auckland:20220819T160000
DTSTAMP:20260425T233105
CREATED:20220803T211247Z
LAST-MODIFIED:20220811T212301Z
UID:8265-1660554000-1660924800@www.fijiartscouncil.com.fj
SUMMARY:Visual Arts Beginner Workshop 2022
DESCRIPTION:
URL:https://www.fijiartscouncil.com.fj/event/visual-arts-beginner-workshop-2022/
LOCATION:Yaroi Hall\, Savusavu\, Fiji
ATTACH;FMTTYPE=image/jpeg:https://www.fijiartscouncil.com.fj/wp-content/uploads/2022/08/Visual-poster-2022-scaled.jpg
END:VEVENT
BEGIN:VEVENT
DTSTART;TZID=Pacific/Auckland:20220817T090000
DTEND;TZID=Pacific/Auckland:20220819T160000
DTSTAMP:20260425T233105
CREATED:20220802T211139Z
LAST-MODIFIED:20220811T211955Z
UID:8247-1660726800-1660924800@www.fijiartscouncil.com.fj
SUMMARY:Textiles & Design Workshop 2022
DESCRIPTION:
URL:https://www.fijiartscouncil.com.fj/event/textiles-design-workshop-2022/
LOCATION:Yaroi Hall\, Savusavu\, Fiji
ATTACH;FMTTYPE=image/jpeg:https://www.fijiartscouncil.com.fj/wp-content/uploads/2022/08/Textitle-poster-scaled.jpg
END:VEVENT
BEGIN:VEVENT
DTSTART;TZID=Pacific/Auckland:20221012T090000
DTEND;TZID=Pacific/Auckland:20221015T170000
DTSTAMP:20260425T233105
CREATED:20220912T232455Z
LAST-MODIFIED:20220912T233532Z
UID:8721-1665565200-1665853200@www.fijiartscouncil.com.fj
SUMMARY:National Craft Exhibition 2022
DESCRIPTION:Purchase for your own\, spectacular works of Arts that has been our identity to the world for centuries. Bring your families along to meet the Crafts Man and Women who have cherished traditional knowledge and skills and has kept it alive till now\, our natural beauty\, our culture\, our future\, our identity\, our Fiji
URL:https://www.fijiartscouncil.com.fj/event/national-craft-exhibition-2022/
LOCATION:Old Nausori Municipal Market Area
ATTACH;FMTTYPE=image/jpeg:https://www.fijiartscouncil.com.fj/wp-content/uploads/2022/09/poster-1.jpg
END:VEVENT
BEGIN:VEVENT
DTSTART;TZID=Pacific/Auckland:20230225T173000
DTEND;TZID=Pacific/Auckland:20230304T210000
DTSTAMP:20260425T233105
CREATED:20230227T212352Z
LAST-MODIFIED:20230227T212454Z
UID:8870-1677346200-1677963600@www.fijiartscouncil.com.fj
SUMMARY:Fiji Fringe Festival 2023
DESCRIPTION:
URL:https://www.fijiartscouncil.com.fj/event/fiji-fringe-festival-2023/
CATEGORIES:Events
ATTACH;FMTTYPE=image/jpeg:https://www.fijiartscouncil.com.fj/wp-content/uploads/2023/02/333801255_736114281218391_341435880582738763_n.jpg
END:VEVENT
BEGIN:VEVENT
DTSTART;TZID=Pacific/Auckland:20230315T090000
DTEND;TZID=Pacific/Auckland:20230316T170000
DTSTAMP:20260425T233105
CREATED:20230305T210607Z
LAST-MODIFIED:20230305T210607Z
UID:8926-1678870800-1678986000@www.fijiartscouncil.com.fj
SUMMARY:Northern Women's Divisional Expo 2023
DESCRIPTION:
URL:https://www.fijiartscouncil.com.fj/event/northern-womens-divisional-expo-2023/
ATTACH;FMTTYPE=image/jpeg:https://www.fijiartscouncil.com.fj/wp-content/uploads/2023/03/332947566_565905535478048_7513766343964602675_n.jpg
END:VEVENT
BEGIN:VEVENT
DTSTART;TZID=Pacific/Auckland:20230320T090000
DTEND;TZID=Pacific/Auckland:20230322T160000
DTSTAMP:20260425T233105
CREATED:20230316T220330Z
LAST-MODIFIED:20230316T220604Z
UID:8933-1679302800-1679500800@www.fijiartscouncil.com.fj
SUMMARY:START & IMPROVE YOUR BUSINESS TRAINING
DESCRIPTION:
URL:https://www.fijiartscouncil.com.fj/event/start-improve-your-business-training/
LOCATION:Fiji Arts Council
CATEGORIES:Events
ATTACH;FMTTYPE=image/jpeg:https://www.fijiartscouncil.com.fj/wp-content/uploads/2023/03/banner-SIBT-2023-scaled.jpg
END:VEVENT
BEGIN:VEVENT
DTSTART;TZID=Pacific/Auckland:20230327T080000
DTEND;TZID=Pacific/Auckland:20230331T170000
DTSTAMP:20260425T233105
CREATED:20230316T220513Z
LAST-MODIFIED:20230316T220513Z
UID:8936-1679904000-1680282000@www.fijiartscouncil.com.fj
SUMMARY:Arts & Fashion Week
DESCRIPTION:
URL:https://www.fijiartscouncil.com.fj/event/arts-fashion-week/
LOCATION:Daku Fiji Resort
CATEGORIES:Events
ATTACH;FMTTYPE=image/jpeg:https://www.fijiartscouncil.com.fj/wp-content/uploads/2023/03/336055892_3335724130002637_6106907395834571316_n.jpg
END:VEVENT
BEGIN:VEVENT
DTSTART;TZID=Pacific/Auckland:20230427T080000
DTEND;TZID=Pacific/Auckland:20230427T170000
DTSTAMP:20260425T233105
CREATED:20230411T012525Z
LAST-MODIFIED:20230411T012525Z
UID:9010-1682582400-1682614800@www.fijiartscouncil.com.fj
SUMMARY:Movie Screening
DESCRIPTION:
URL:https://www.fijiartscouncil.com.fj/event/movie-screening/
CATEGORIES:Events
ATTACH;FMTTYPE=image/jpeg:https://www.fijiartscouncil.com.fj/wp-content/uploads/2023/04/movie-screening-scaled.jpg
END:VEVENT
BEGIN:VEVENT
DTSTART;TZID=Pacific/Auckland:20230427T090000
DTEND;TZID=Pacific/Auckland:20230428T170000
DTSTAMP:20260425T233105
CREATED:20230419T232110Z
LAST-MODIFIED:20230419T233838Z
UID:9012-1682586000-1682701200@www.fijiartscouncil.com.fj
SUMMARY:Eastern Division (Lau & Lomaiviti) Women's Expo 2023
DESCRIPTION:
URL:https://www.fijiartscouncil.com.fj/event/eastern-division-lau-lomaiviti-womens-expo-2023/
LOCATION:Civic Center Auditorium\, front car park
ATTACH;FMTTYPE=image/jpeg:https://www.fijiartscouncil.com.fj/wp-content/uploads/2023/04/341831548_556489583141665_8830680053383811335_n.jpg
END:VEVENT
BEGIN:VEVENT
DTSTART;TZID=Pacific/Auckland:20230503T090000
DTEND;TZID=Pacific/Auckland:20230504T170000
DTSTAMP:20260425T233105
CREATED:20230501T210849Z
LAST-MODIFIED:20230501T211051Z
UID:9017-1683104400-1683219600@www.fijiartscouncil.com.fj
SUMMARY:Western Division (Nadroga\, Ba & Ra) Women's Expo 2023
DESCRIPTION:
URL:https://www.fijiartscouncil.com.fj/event/western-division-nadroga-ba-ra-womens-expo-2023/
LOCATION:SHIRLEY PARK\, LAUTOKA
CATEGORIES:Events
ATTACH;FMTTYPE=image/jpeg:https://www.fijiartscouncil.com.fj/wp-content/uploads/2023/05/343951974_1196347657691911_7484672788889599630_n.jpg
END:VEVENT
BEGIN:VEVENT
DTSTART;TZID=Pacific/Auckland:20230518T090000
DTEND;TZID=Pacific/Auckland:20230519T170000
DTSTAMP:20260425T233105
CREATED:20230507T221137Z
LAST-MODIFIED:20230507T221419Z
UID:9020-1684400400-1684515600@www.fijiartscouncil.com.fj
SUMMARY:Central Division Expo 2023
DESCRIPTION:
URL:https://www.fijiartscouncil.com.fj/event/central-division-expo-2023/
LOCATION:Civic Center Front Car Park\, Suva
CATEGORIES:Events
ATTACH;FMTTYPE=image/jpeg:https://www.fijiartscouncil.com.fj/wp-content/uploads/2023/05/345231794_167151852965850_2441252779421949816_n.jpg
END:VEVENT
BEGIN:VEVENT
DTSTART;TZID=Pacific/Auckland:20230524T090000
DTEND;TZID=Pacific/Auckland:20230529T170000
DTSTAMP:20260425T233105
CREATED:20230521T210343Z
LAST-MODIFIED:20230523T045149Z
UID:9024-1684918800-1685379600@www.fijiartscouncil.com.fj
SUMMARY:Ratu Sukuna Day Celebration 2023
DESCRIPTION:
URL:https://www.fijiartscouncil.com.fj/event/ratu-sukuna-day-celebration-2023/
CATEGORIES:Events
ATTACH;FMTTYPE=image/jpeg:https://www.fijiartscouncil.com.fj/wp-content/uploads/2023/05/348235070_9522135514493085_8104995871328049311_n.jpg
END:VEVENT
BEGIN:VEVENT
DTSTART;TZID=Pacific/Auckland:20230531T090000
DTEND;TZID=Pacific/Auckland:20230531T140000
DTSTAMP:20260425T233105
CREATED:20230523T043248Z
LAST-MODIFIED:20230523T043248Z
UID:9027-1685523600-1685541600@www.fijiartscouncil.com.fj
SUMMARY:"Sustainable Textile & Indigenous Design  Practices Workshop 2023"
DESCRIPTION:
URL:https://www.fijiartscouncil.com.fj/event/sustainable-textile-indigenous-design-practices-workshop-2023/
LOCATION:Ratu Sukuna Road\, Suva\, Fiji  (New Zealand High Commissioner’s Residence).\, Fiji
CATEGORIES:Events
ATTACH;FMTTYPE=image/jpeg:https://www.fijiartscouncil.com.fj/wp-content/uploads/2023/05/NZ-workshop.jpg
END:VEVENT
BEGIN:VEVENT
DTSTART;TZID=Pacific/Auckland:20230619T090000
DTEND;TZID=Pacific/Auckland:20230622T160000
DTSTAMP:20260425T233105
CREATED:20230531T213203Z
LAST-MODIFIED:20230531T213203Z
UID:9036-1687165200-1687449600@www.fijiartscouncil.com.fj
SUMMARY:Business Training (IV) - 2023
DESCRIPTION:
URL:https://www.fijiartscouncil.com.fj/event/business-training-iv-2023/
CATEGORIES:Events
END:VEVENT
BEGIN:VEVENT
DTSTART;TZID=Pacific/Auckland:20230809T090000
DTEND;TZID=Pacific/Auckland:20230812T170000
DTSTAMP:20260425T233105
CREATED:20230531T212724Z
LAST-MODIFIED:20230703T015444Z
UID:9034-1691571600-1691859600@www.fijiartscouncil.com.fj
SUMMARY:National Craft Exhibition 2023
DESCRIPTION:
URL:https://www.fijiartscouncil.com.fj/event/national-craft-exhibition-2023/
CATEGORIES:Events
ATTACH;FMTTYPE=image/jpeg:https://www.fijiartscouncil.com.fj/wp-content/uploads/2023/06/Artboard-1-100.jpg
END:VEVENT
BEGIN:VEVENT
DTSTART;VALUE=DATE:20231121
DTEND;VALUE=DATE:20231124
DTSTAMP:20260425T233105
CREATED:20231107T213452Z
LAST-MODIFIED:20231117T000046Z
UID:9161-1700524800-1700783999@www.fijiartscouncil.com.fj
SUMMARY:6th Fiji National Women's Expo 2023
DESCRIPTION:
URL:https://www.fijiartscouncil.com.fj/event/6th-fiji-national-womens-expo-2023/
LOCATION:Vodafone Arena\, Suva
CATEGORIES:Events
ATTACH;FMTTYPE=image/jpeg:https://www.fijiartscouncil.com.fj/wp-content/uploads/2023/11/401530147_658462159804166_8531596740629826549_n.jpg
END:VEVENT
BEGIN:VEVENT
DTSTART;TZID=Pacific/Auckland:20240316T090000
DTEND;TZID=Pacific/Auckland:20240323T170000
DTSTAMP:20260425T233105
CREATED:20240310T225652Z
LAST-MODIFIED:20240310T225841Z
UID:9311-1710579600-1711213200@www.fijiartscouncil.com.fj
SUMMARY:"FIJI FRINGE FESTIVAL 2024"
DESCRIPTION:
URL:https://www.fijiartscouncil.com.fj/event/fiji-fringe-festival-2024/
CATEGORIES:Events
ATTACH;FMTTYPE=image/jpeg:https://www.fijiartscouncil.com.fj/wp-content/uploads/2024/03/430178442_436283992248781_8733660784814163043_n.jpg
END:VEVENT
BEGIN:VEVENT
DTSTART;TZID=Pacific/Auckland:20240515T100000
DTEND;TZID=Pacific/Auckland:20240726T170000
DTSTAMP:20260425T233106
CREATED:20240404T015744Z
LAST-MODIFIED:20240507T035559Z
UID:9324-1715767200-1722013200@www.fijiartscouncil.com.fj
SUMMARY:ART EXHIBITION 2024
DESCRIPTION:
URL:https://www.fijiartscouncil.com.fj/event/art-exhibition-2024/
LOCATION:National Art Gallery – Fiji\, St. Stephen’s Building Victoria Parade\, Suva\, Fiji
CATEGORIES:Events
ATTACH;FMTTYPE=image/jpeg:https://www.fijiartscouncil.com.fj/wp-content/uploads/2024/04/Poster-scaled.jpg
END:VEVENT
BEGIN:VEVENT
DTSTART;TZID=Pacific/Auckland:20240516T083000
DTEND;TZID=Pacific/Auckland:20240518T160000
DTSTAMP:20260425T233106
CREATED:20240404T020229Z
LAST-MODIFIED:20240405T020719Z
UID:9327-1715848200-1716048000@www.fijiartscouncil.com.fj
SUMMARY:FIJI ARTS COUNCIL MARKET DAY (MAY) 2024
DESCRIPTION:
URL:https://www.fijiartscouncil.com.fj/event/fiji-arts-council-market-day-2024/
LOCATION:St Stephen Building\, Lot 310\,  Victoria Parade\, Suva\, Fiji
CATEGORIES:Events
ATTACH;FMTTYPE=image/jpeg:https://www.fijiartscouncil.com.fj/wp-content/uploads/2024/04/Market-day-flyer-2024-scaled.jpg
END:VEVENT
END:VCALENDAR